BEGIN:VCALENDAR
VERSION:2.0
PRODID:-//wp-events-plugin.com//7.2.2.1//EN
TZID:Europe/Paris
X-WR-TIMEZONE:Europe/Paris
BEGIN:VEVENT
UID:44@amiens-rivery-escalade.fr
DTSTART;TZID=Europe/Paris:20250913T090000
DTEND;TZID=Europe/Paris:20250913T120000
DTSTAMP:20250717T224126Z
URL:https://amiens-rivery-escalade.fr/events/rentree-2025-nouvelles-inscri
 ptions/
SUMMARY:Rentrée 2025 - Nouvelles inscriptions
DESCRIPTION:Il est conseillé de participer à la séance d'essai la semain
 e précédente afin de se faire un premier avis.\n\nA noter également que
  l'attribution d'un créneau se fera après discussion avec les encadrants
 .\n\n&nbsp\;\n\nSi vous êtes déjà membre du club\, et que vous souhaite
 z vous réinscrire\, vous devez avoir reçu un mail indiquant les modalit
 és nécessaires.
LOCATION:Gymnase Buffenoir\, 9 Rue Jules Verne\, RIVERY\, 80136\, France
X-APPLE-STRUCTURED-LOCATION;VALUE=URI;X-ADDRESS=9 Rue Jules Verne\, RIVERY\
 , 80136\, France;X-APPLE-RADIUS=100;X-TITLE=Gymnase Buffenoir:geo:0,0
END:VEVENT
BEGIN:VTIMEZONE
TZID:Europe/Paris
X-LIC-LOCATION:Europe/Paris
BEGIN:DAYLIGHT
DTSTART:20250330T030000
TZOFFSETFROM:+0100
TZOFFSETTO:+0200
TZNAME:CEST
END:DAYLIGHT
END:VTIMEZONE
END:VCALENDAR