BEGIN:VCALENDAR
VERSION:2.0
PRODID:-//wp-events-plugin.com//7.2.2.1//EN
TZID:Europe/Paris
X-WR-TIMEZONE:Europe/Paris
BEGIN:VEVENT
UID:41@amiens-rivery-escalade.fr
DTSTART;TZID=Europe/Paris;VALUE=DATE:20250315
DTEND;TZID=Europe/Paris;VALUE=DATE:20250316
DTSTAMP:20250206T203059Z
URL:https://amiens-rivery-escalade.fr/events/operation-de-nettoyage-du-sit
 e-des-glachoirs/
SUMMARY:Opération de nettoyage du site des Glachoirs
DESCRIPTION:Message originel du Comité Territorial FFME de L'Oise:\n\nLe s
 amedi 15 mars une grande opération de nettoyage du site des Glachoirs 
 à Saint-Vaast dans l ' Oise  va avoir lieu\, co organisé en partenari
 at avec  le Conservatoire des Espaces Naturels et le CT60.\nNous avons ab
 solument besoin de petites mains pour aider ! Sans quoi le travail est imp
 ossible à réaliser.\nNous vous demandons de nous aider à trouver du mon
 de en faisant tourner cet appel le plus largement possible. Rappelons que 
 c'est uniquement grâce au travail de bénévoles qui nettoient\, désherb
 ent et équipent\, qu'il est possible de grimper sur ce site !\nPlus nous 
 serons nombreux et plus nous aurons de temps pour grimper après !\nRendez
 -vous à 9h au parking au pied du  chemin qui mène au site des glachoirs
 \n\nNous encourageons à amener\, selon ce que les personnes ont à dispos
 ition :\n- équipement de protection type gants\n- sécateur\n- scie à b
 ûche\n- sac de déchets verts
ATTACH;FMTTYPE=image/jpeg:https://amiens-rivery-escalade.fr/wp-content/upl
 oads/2025/02/un-escaladeur-avec-un-sac-poubelle-dans-le-style-art-nouveau.
 jpg
LOCATION:Saint-Vaast-lès-Mello\, Route de Cramoisy\, Saint-Vaast-lès-Mell
 o\, France
X-APPLE-STRUCTURED-LOCATION;VALUE=URI;X-ADDRESS=Route de Cramoisy\, Saint-V
 aast-lès-Mello\, France;X-APPLE-RADIUS=100;X-TITLE=Saint-Vaast-lès-Mello
 :geo:0,0
END:VEVENT
BEGIN:VTIMEZONE
TZID:Europe/Paris
X-LIC-LOCATION:Europe/Paris
BEGIN:STANDARD
DTSTART:20241027T020000
TZOFFSETFROM:+0200
TZOFFSETTO:+0100
TZNAME:CET
END:STANDARD
END:VTIMEZONE
END:VCALENDAR