BEGIN:VCALENDAR
VERSION:2.0
PRODID:-//wp-events-plugin.com//7.2.2.1//EN
TZID:Europe/Paris
X-WR-TIMEZONE:Europe/Paris
BEGIN:VEVENT
UID:40@amiens-rivery-escalade.fr
DTSTART;TZID=Europe/Paris;VALUE=DATE:20250301
DTEND;TZID=Europe/Paris;VALUE=DATE:20250302
DTSTAMP:20250206T200604Z
URL:https://amiens-rivery-escalade.fr/events/gravity-games/
SUMMARY:Gravity Games
DESCRIPTION:Grimp’A Bloc organise la première édition des Gravity Games
  le 1er mars 2025 à Amiens.\nUn contest de bloc ouvert à tous\, du gr
 impeur loisir au compétiteur expérimenté !\nDeux catégories pour que c
 hacun trouve son défi :\n👉 "Plaisir" : pour s’amuser et se challen
 ger dans une ambiance conviviale (avec de beaux lots à gagner)\n👉 "Ca
 shprize" : pour les grimpeurs confirmés qui veulent tenter de décrocher
  leur part des 1 600 € en jeu\, à se partager entre vainqueurs (H/F)\n
 Pour s'inscrire et avoir plus de renseignements : https://shop.grimpabloc
 .fr/competitions\n
ATTACH;FMTTYPE=image/jpeg:https://amiens-rivery-escalade.fr/wp-content/upl
 oads/2025/02/post-fb-gravity-games-grimpabloc-1080x1080px-2025.png
LOCATION:Grimp'A Bloc\, 54 rue du Château Milan\, AMIENS\, 80000\, France
X-APPLE-STRUCTURED-LOCATION;VALUE=URI;X-ADDRESS=54 rue du Château Milan\, 
 AMIENS\, 80000\, France;X-APPLE-RADIUS=100;X-TITLE=Grimp'A Bloc:geo:0,0
END:VEVENT
BEGIN:VTIMEZONE
TZID:Europe/Paris
X-LIC-LOCATION:Europe/Paris
BEGIN:STANDARD
DTSTART:20241027T020000
TZOFFSETFROM:+0200
TZOFFSETTO:+0100
TZNAME:CET
END:STANDARD
END:VTIMEZONE
END:VCALENDAR