BEGIN:VCALENDAR
VERSION:2.0
PRODID:-//wp-events-plugin.com//7.2.2.1//EN
TZID:Europe/Paris
X-WR-TIMEZONE:Europe/Paris
BEGIN:VEVENT
UID:42@amiens-rivery-escalade.fr
DTSTART;TZID=Europe/Paris:20250704T183000
DTEND;TZID=Europe/Paris:20250704T210000
DTSTAMP:20250520T190349Z
URL:https://amiens-rivery-escalade.fr/events/assemblee-generale-2025/
SUMMARY:Assemblée Générale 2025
DESCRIPTION:Un premier temps de présentation par le bureau\, avec le bilan
  sportif et financier de la saison ainsi qu’un aperçu des projets pour 
 l’année prochaine.\nUn deuxième temps convivial autour de la plancha d
 u club\, dans le format habituel d’auberge espagnole.\n\n👉 Le club s
 ’occupe de fournir la viande (poulet et dinde uniquement) ainsi que les 
 boissons.\nNous vous invitons à ramener des plats salés\, crudités ou d
 esserts à partager.\n\n🎯 Merci de vous inscrire ici pour nous aider à
  organiser la soirée au mieux :  https://forms.gle/hfpL6UvRi6sMj8ZA9
ATTACH;FMTTYPE=image/jpeg:https://amiens-rivery-escalade.fr/wp-content/upl
 oads/2023/05/AG.png
CATEGORIES:Association
LOCATION:Gymnase Buffenoir\, 9 Rue Jules Verne\, RIVERY\, 80136\, France
X-APPLE-STRUCTURED-LOCATION;VALUE=URI;X-ADDRESS=9 Rue Jules Verne\, RIVERY\
 , 80136\, France;X-APPLE-RADIUS=100;X-TITLE=Gymnase Buffenoir:geo:0,0
END:VEVENT
BEGIN:VTIMEZONE
TZID:Europe/Paris
X-LIC-LOCATION:Europe/Paris
BEGIN:DAYLIGHT
DTSTART:20250330T030000
TZOFFSETFROM:+0100
TZOFFSETTO:+0200
TZNAME:CEST
END:DAYLIGHT
END:VTIMEZONE
END:VCALENDAR